BEGIN:VCALENDAR
VERSION:2.0
PRODID:-//ChamberMaster//Event Calendar 2.0//EN
METHOD:PUBLISH
X-PUBLISHED-TTL:P3D
REFRESH-INTERVAL:P3D
CALSCALE:GREGORIAN
BEGIN:VEVENT
DTSTART;VALUE=DATE:20120514
DTEND;VALUE=DATE:20120515
TRANSP:TRANSPARENT
X-MICROSOFT-CDO-ALLDAYEVENT:TRUE
SUMMARY:Come Alive Ministries Golf Torunament
DESCRIPTION:Come Alive Ministries invites you to spend a great day of golf and fellowship at our seventh annual golf torunament. \n\n	\n\n	At our pregnancy care center we endeavor to equip women facing an unplanned pregnancy to make healthy life choices. The center serves hundreds of women in our community and surrounding areas seeking help\, including free pregnancy tests and ultrasounds. There are also countless material needs met through our Hope program.\n\n	\n\n	Your tournament playing or sponsorship helps us create healthier lives and a healthier community.
X-ALT-DESC;FMTTYPE=text/html:<div>\n	Come Alive Ministries invites you to spend a great day of golf and fellowship at our seventh annual golf torunament.&nbsp\;<br />\n	<br />\n	At our pregnancy care center we endeavor to equip women facing an unplanned pregnancy to make healthy life choices. The center serves hundreds of women in our community and surrounding areas seeking help\, including free pregnancy tests and ultrasounds. There are also countless material needs met through our Hope program.<br />\n	<br />\n	Your tournament playing or sponsorship helps us create healthier lives and a healthier community.</div>\n
LOCATION:Chateau Elan Golf Club\, 6060 Golf Club Drive\, Braselton\, GA 30517
UID:e.363.4105
SEQUENCE:3
DTSTAMP:20260423T181316Z
URL:https://barrowcm.365dtm.com/events/details/come-alive-ministries-golf-torunament-05-14-2012-4105
END:VEVENT

END:VCALENDAR
