BEGIN:VCALENDAR
VERSION:2.0
PRODID:-//ChamberMaster//Event Calendar 2.0//EN
METHOD:PUBLISH
X-PUBLISHED-TTL:P3D
REFRESH-INTERVAL:P3D
CALSCALE:GREGORIAN
BEGIN:VEVENT
DTSTART;VALUE=DATE:20110519
DTEND;VALUE=DATE:20110520
TRANSP:TRANSPARENT
X-MICROSOFT-CDO-ALLDAYEVENT:TRUE
SUMMARY:Come Alive Ministries Golf Torunament
DESCRIPTION:Come Alive Ministries invites you to spend a great day of golf and fellowship during the Sixth Annual Come Alive Ministries Golf Tournament.\n\n\n\nPlaying or sponsorship enables Come Alive Ministries\, a pregnancy care center\, to equip women to take care of their children and make wise choices that save the lives and improve the quality of life of many children every year.
X-ALT-DESC;FMTTYPE=text/html:Come Alive Ministries invites you to spend a great day of golf and fellowship during the Sixth Annual Come Alive Ministries Golf Tournament.\n<br>\n<br>Playing or sponsorship enables Come Alive Ministries\, a pregnancy care center\, to equip women to take care of their children and make wise choices that save the lives and improve the quality of life of many children every year.\n<br>
LOCATION:Château Élan Golf Club\, 6060 Golf Club Drive\, Braselton\, GA 30517
UID:e.363.3644
SEQUENCE:3
DTSTAMP:20260424T105135Z
URL:https://barrowcm.365dtm.com/events/details/come-alive-ministries-golf-torunament-05-19-2011-3644
END:VEVENT

END:VCALENDAR
