BEGIN:VCALENDAR
VERSION:2.0
PRODID:-//ChamberMaster//Event Calendar 2.0//EN
METHOD:PUBLISH
X-PUBLISHED-TTL:P3D
REFRESH-INTERVAL:P3D
CALSCALE:GREGORIAN
BEGIN:VEVENT
DTSTART:20141011T200000Z
DTEND:20141011T230000Z
X-MICROSOFT-CDO-ALLDAYEVENT:FALSE
SUMMARY:Come Celebrate with us! 3 years old!
DESCRIPTION:
X-ALT-DESC;FMTTYPE=text/html:
LOCATION:13 Woodland Rd Auburn 30011
UID:e.363.5462
SEQUENCE:3
DTSTAMP:20260421T184408Z
URL:https://barrowcm.365dtm.com/events/details/come-celebrate-with-us-3-years-old-10-11-2014-5462
END:VEVENT

END:VCALENDAR
