BEGIN:VCALENDAR
VERSION:2.0
PRODID:-//ChamberMaster//Event Calendar 2.0//EN
METHOD:PUBLISH
X-PUBLISHED-TTL:P3D
REFRESH-INTERVAL:P3D
CALSCALE:GREGORIAN
BEGIN:VEVENT
DTSTART:20120516T223000Z
DTEND:20120517T000000Z
X-MICROSOFT-CDO-ALLDAYEVENT:FALSE
SUMMARY:Community Education meeting on the TIA
DESCRIPTION:Community Meeting to be educated on\n\n	the TIA or Transportation Investment Act\n\n	which will be on the Ballot July 31st
X-ALT-DESC;FMTTYPE=text/html:<div style="color: gray">\n	Community Meeting to&nbsp\;be&nbsp\;educated on<br />\n	the TIA or Transportation Investment Act<br />\n	which will be on the Ballot July 31st</div>\n
LOCATION:Statham Community Center
UID:e.363.4261
SEQUENCE:3
DTSTAMP:20260423T181411Z
URL:https://barrowcm.365dtm.com/events/details/community-education-meeting-on-the-tia-05-16-2012-4261
END:VEVENT

END:VCALENDAR
