BEGIN:VCALENDAR
VERSION:2.0
PRODID:-//ChamberMaster//Event Calendar 2.0//EN
METHOD:PUBLISH
X-PUBLISHED-TTL:P3D
REFRESH-INTERVAL:P3D
CALSCALE:GREGORIAN
BEGIN:VEVENT
DTSTART:20120509T223000Z
DTEND:20120510T000000Z
X-MICROSOFT-CDO-ALLDAYEVENT:FALSE
SUMMARY:Community Education meeting on TIA
DESCRIPTION:Community Meeting to be educated on\n\nthe TIA or Transportation Investment Act\n\nwhich will be on the Ballot July 31st
X-ALT-DESC;FMTTYPE=text/html:Community Meeting to&nbsp\;be&nbsp\;educated on<br />\nthe TIA or Transportation Investment Act<br />\nwhich will be on the Ballot July 31st
LOCATION:Winder Community Center
UID:e.363.4259
SEQUENCE:3
DTSTAMP:20260423T181345Z
URL:https://barrowcm.365dtm.com/events/details/community-education-meeting-on-tia-05-09-2012-4259
END:VEVENT

END:VCALENDAR
