BEGIN:VCALENDAR
VERSION:2.0
PRODID:-//ChamberMaster//Event Calendar 2.0//EN
METHOD:PUBLISH
X-PUBLISHED-TTL:P3D
REFRESH-INTERVAL:P3D
CALSCALE:GREGORIAN
BEGIN:VEVENT
DTSTART:20090411T120000Z
DTEND:20090411T180000Z
X-MICROSOFT-CDO-ALLDAYEVENT:FALSE
SUMMARY:Community Yard Sale
DESCRIPTION:Community Yard Sale\n$10.00 spot - Bring your table and merchandise
X-ALT-DESC;FMTTYPE=text/html:Community Yard Sale\n$10.00 spot - Bring your table and merchandise 
LOCATION:Downtown Auburn - Burel Park - nice and shady
UID:e.363.2672
SEQUENCE:3
DTSTAMP:20260426T011857Z
URL:https://barrowcm.365dtm.com/events/details/community-yard-sale-04-11-2009-2672
END:VEVENT

END:VCALENDAR
