BEGIN:VCALENDAR
VERSION:2.0
PRODID:-//ChamberMaster//Event Calendar 2.0//EN
METHOD:PUBLISH
X-PUBLISHED-TTL:P3D
REFRESH-INTERVAL:P3D
CALSCALE:GREGORIAN
BEGIN:VEVENT
DTSTART:20141022T133000Z
DTEND:20141022T153000Z
X-MICROSOFT-CDO-ALLDAYEVENT:FALSE
SUMMARY:Constant Contact/Murcon
DESCRIPTION:Free workshop for businesses and nonprofits.  Simple Strategies for Social Media Marketing
X-ALT-DESC;FMTTYPE=text/html:Free workshop for businesses and nonprofits.&nbsp\; Simple Strategies for Social Media Marketing
LOCATION:Barrow County Chamber Office
UID:e.363.5461
SEQUENCE:3
DTSTAMP:20260421T183854Z
URL:https://barrowcm.365dtm.com/events/details/constant-contact-murcon-10-22-2014-5461
END:VEVENT

END:VCALENDAR
