BEGIN:VCALENDAR
VERSION:2.0
PRODID:-//ChamberMaster//Event Calendar 2.0//EN
METHOD:PUBLISH
X-PUBLISHED-TTL:P3D
REFRESH-INTERVAL:P3D
CALSCALE:GREGORIAN
BEGIN:VEVENT
DTSTART:20131114T233000Z
DTEND:20131115T013000Z
X-MICROSOFT-CDO-ALLDAYEVENT:FALSE
SUMMARY:Creative Canvas
DESCRIPTION:No Experience Necessary! Create your masterpiece in just two hours.\n\nAll supplies included.
X-ALT-DESC;FMTTYPE=text/html:No Experience Necessary! Create your masterpiece in just two hours.<br />\nAll supplies included.<br />\n<br />\n
LOCATION:Georgia Piedmont Arts Center
UID:e.363.5165
SEQUENCE:3
DTSTAMP:20260422T160427Z
URL:https://barrowcm.365dtm.com/events/details/creative-canvas-11-14-2013-5165
END:VEVENT

END:VCALENDAR
