BEGIN:VCALENDAR
VERSION:2.0
PRODID:-//ChamberMaster//Event Calendar 2.0//EN
METHOD:PUBLISH
X-PUBLISHED-TTL:P3D
REFRESH-INTERVAL:P3D
CALSCALE:GREGORIAN
BEGIN:VEVENT
DTSTART:20101205T000000Z
DTEND:20101205T040000Z
X-MICROSOFT-CDO-ALLDAYEVENT:FALSE
SUMMARY:Dance
DESCRIPTION:There will be a dance at American Legion Post 53 December 4th beginning at 7pm with The  Stephen Van Band.
X-ALT-DESC;FMTTYPE=text/html:There will be a dance at American Legion Post 53 December 4th beginning at 7pm with The  Stephen Van Band.
LOCATION:American Legion Post 53 at 456 Watson Road
UID:e.363.3645
SEQUENCE:3
DTSTAMP:20260424T182026Z
URL:https://barrowcm.365dtm.com/events/details/dance-12-04-2010-3645
END:VEVENT

END:VCALENDAR
