BEGIN:VCALENDAR
VERSION:2.0
PRODID:-//ChamberMaster//Event Calendar 2.0//EN
METHOD:PUBLISH
X-PUBLISHED-TTL:P3D
REFRESH-INTERVAL:P3D
CALSCALE:GREGORIAN
BEGIN:VEVENT
DTSTART:20101212T000000Z
DTEND:20101212T040000Z
X-MICROSOFT-CDO-ALLDAYEVENT:FALSE
SUMMARY:Dance
DESCRIPTION:Dance at American Legion Post 53 starting at 7pm with music by The Stephen Van Band
X-ALT-DESC;FMTTYPE=text/html:Dance at American Legion Post 53 starting at 7pm with music by The Stephen Van Band 
LOCATION:American Legion Post 53 at 456 Watson Road in Winder
UID:e.363.3646
SEQUENCE:3
DTSTAMP:20260424T182131Z
URL:https://barrowcm.365dtm.com/events/details/dance-12-11-2010-3646
END:VEVENT

END:VCALENDAR
