BEGIN:VCALENDAR
VERSION:2.0
PRODID:-//ChamberMaster//Event Calendar 2.0//EN
METHOD:PUBLISH
X-PUBLISHED-TTL:P3D
REFRESH-INTERVAL:P3D
CALSCALE:GREGORIAN
BEGIN:VEVENT
DTSTART:20090417T230000Z
DTEND:20090418T010000Z
X-MICROSOFT-CDO-ALLDAYEVENT:FALSE
SUMMARY:Dance for A Cure
DESCRIPTION:Mary's Heros Presents:\nDance for a Cure\, Benefits Barrow County Relay for Life\nCome and show off your Waltz\, Rumba\, Fox Trot & Swing Dancing!\n*Experienced dance instructors will be present to help with any new dance steps you'd like to learn.  Light refreshments will be served.*
X-ALT-DESC;FMTTYPE=text/html:Mary's Heros Presents:\nDance for a Cure\, Benefits Barrow County Relay for Life\nCome and show off your Waltz\, Rumba\, Fox Trot & Swing Dancing!\n*Experienced dance instructors will be present to help with any new dance steps you'd like to learn.  Light refreshments will be served.*
LOCATION:Brad Akins YMCA\, Winder\, Ga
UID:e.363.2669
SEQUENCE:3
DTSTAMP:20260426T011351Z
URL:https://barrowcm.365dtm.com/events/details/dance-for-a-cure-04-17-2009-2669
END:VEVENT

END:VCALENDAR
