BEGIN:VCALENDAR
VERSION:2.0
PRODID:-//ChamberMaster//Event Calendar 2.0//EN
METHOD:PUBLISH
X-PUBLISHED-TTL:P3D
REFRESH-INTERVAL:P3D
CALSCALE:GREGORIAN
BEGIN:VEVENT
DTSTART;VALUE=DATE:20110721
DTEND;VALUE=DATE:20110722
TRANSP:TRANSPARENT
X-MICROSOFT-CDO-ALLDAYEVENT:TRUE
SUMMARY:Debi Krause B-day
DESCRIPTION:
X-ALT-DESC;FMTTYPE=text/html:
LOCATION:
UID:e.363.4051
SEQUENCE:3
DTSTAMP:20260424T081834Z
URL:https://barrowcm.365dtm.com/events/details/debi-krause-b-day-07-21-2011-4051
END:VEVENT

END:VCALENDAR
