BEGIN:VCALENDAR
VERSION:2.0
PRODID:-//ChamberMaster//Event Calendar 2.0//EN
METHOD:PUBLISH
X-PUBLISHED-TTL:P3D
REFRESH-INTERVAL:P3D
CALSCALE:GREGORIAN
BEGIN:VEVENT
DTSTART;VALUE=DATE:20150721
DTEND;VALUE=DATE:20150722
TRANSP:TRANSPARENT
X-MICROSOFT-CDO-ALLDAYEVENT:TRUE
SUMMARY:Debi's Birthday (The Big One)
DESCRIPTION:
X-ALT-DESC;FMTTYPE=text/html:
LOCATION:
UID:e.363.5791
SEQUENCE:3
DTSTAMP:20260421T043542Z
URL:https://barrowcm.365dtm.com/events/details/debi-s-birthday-the-big-one-07-21-2015-5791
END:VEVENT

END:VCALENDAR
