BEGIN:VCALENDAR
VERSION:2.0
PRODID:-//ChamberMaster//Event Calendar 2.0//EN
METHOD:PUBLISH
X-PUBLISHED-TTL:P3D
REFRESH-INTERVAL:P3D
CALSCALE:GREGORIAN
BEGIN:VEVENT
DTSTART:20090610T210000Z
DTEND:20090610T230000Z
X-MICROSOFT-CDO-ALLDAYEVENT:FALSE
SUMMARY:Diabetes Self Management Class\, Part 1
DESCRIPTION:Taught by Stacey Patterson\, RN\, BSN\, CDE\nCertified Diabetes Educator\n\nNo Charge
X-ALT-DESC;FMTTYPE=text/html:Taught by Stacey Patterson\, RN\, BSN\, CDE\nCertified Diabetes Educator\n\nNo Charge
LOCATION:Barrow Regional Medical Center Cafeteria
UID:e.363.2139
SEQUENCE:3
DTSTAMP:20260425T214627Z
URL:https://barrowcm.365dtm.com/events/details/diabetes-self-management-class-part-1-06-10-2009-2139
END:VEVENT

END:VCALENDAR
