BEGIN:VCALENDAR
VERSION:2.0
PRODID:-//ChamberMaster//Event Calendar 2.0//EN
METHOD:PUBLISH
X-PUBLISHED-TTL:P3D
REFRESH-INTERVAL:P3D
CALSCALE:GREGORIAN
BEGIN:VEVENT
DTSTART:20140808T223000Z
DTEND:20140809T010000Z
X-MICROSOFT-CDO-ALLDAYEVENT:FALSE
SUMMARY:Downtown Live Womder
DESCRIPTION:Live concert
X-ALT-DESC;FMTTYPE=text/html:Live concert
LOCATION:Downtown Winder at the Gazebo
UID:e.363.5436
SEQUENCE:3
DTSTAMP:20260421T214522Z
URL:https://barrowcm.365dtm.com/events/details/downtown-live-womder-08-08-2014-5436
END:VEVENT

END:VCALENDAR
