BEGIN:VCALENDAR
VERSION:2.0
PRODID:-//ChamberMaster//Event Calendar 2.0//EN
METHOD:PUBLISH
X-PUBLISHED-TTL:P3D
REFRESH-INTERVAL:P3D
CALSCALE:GREGORIAN
BEGIN:VEVENT
DTSTART:20140808T223000Z
DTEND:20140809T010000Z
X-MICROSOFT-CDO-ALLDAYEVENT:FALSE
SUMMARY:Downtown Winder LIVE! Music Series
DESCRIPTION:A free community concert held at the Downtown Gazebo Park and Candler Street.\n\n\n\nThe August 8\, 2014 music series featuring The Common People. \n\n\n\nSponsored by Akins Ford and Van Kirk Electric.
X-ALT-DESC;FMTTYPE=text/html:A free community concert held at the Downtown Gazebo Park and Candler Street.<br />\n<br />\nThe August 8\, 2014 music series featuring The Common People.&nbsp\;<br />\n<br />\nSponsored by Akins Ford and Van Kirk Electric.
LOCATION:Downtown gazebo park and Candler Street\, Winder.
UID:e.363.5445
SEQUENCE:3
DTSTAMP:20260421T214753Z
URL:https://barrowcm.365dtm.com/events/details/downtown-winder-live-music-series-08-08-2014-5445
END:VEVENT

END:VCALENDAR
