BEGIN:VCALENDAR
VERSION:2.0
PRODID:-//ChamberMaster//Event Calendar 2.0//EN
METHOD:PUBLISH
X-PUBLISHED-TTL:P3D
REFRESH-INTERVAL:P3D
CALSCALE:GREGORIAN
BEGIN:VEVENT
DTSTART:20150528T120000Z
DTEND:20150531T200000Z
X-MICROSOFT-CDO-ALLDAYEVENT:FALSE
SUMMARY:Driver's Education Course
DESCRIPTION:Advance Driving Academy is offering a four day driver's education class. This class covers 30 hours classroom hours and 6 hours of behind the wheel instruction (scheduled after class is completed).
X-ALT-DESC;FMTTYPE=text/html:Advance Driving Academy is offering a four day driver&#39\;s education class. This class covers 30 hours classroom hours and 6 hours of behind the wheel instruction (scheduled after class is completed).
LOCATION:Advance Driving Academy 17 W. Stephens St. Winder\, GA 30680
UID:e.363.5776
SEQUENCE:3
DTSTAMP:20260421T080140Z
URL:https://barrowcm.365dtm.com/events/details/driver-s-education-course-05-28-2015-5776
END:VEVENT

END:VCALENDAR
