BEGIN:VCALENDAR
VERSION:2.0
PRODID:-//ChamberMaster//Event Calendar 2.0//EN
METHOD:PUBLISH
X-PUBLISHED-TTL:P3D
REFRESH-INTERVAL:P3D
CALSCALE:GREGORIAN
BEGIN:VEVENT
DTSTART;VALUE=DATE:20120502
DTEND;VALUE=DATE:20120506
TRANSP:TRANSPARENT
X-MICROSOFT-CDO-ALLDAYEVENT:TRUE
SUMMARY:EARRINGS EVENT
DESCRIPTION:Elani Fine Jewelry is having a  Chamilia  Earring Event where you can receive    a FREE  silver hoop earring with  purchase  and  register for  drawing  to win a Chamilia jewelry box .\n\n We are having the special promotions on silver snap bracelets and  beads  if you spend $125 .
X-ALT-DESC;FMTTYPE=text/html:Elani Fine Jewelry is having a&nbsp\; Chamilia&nbsp\; Earring Event where you can receive &nbsp\;&nbsp\; a FREE&nbsp\; silver hoop earring with&nbsp\; purchase&nbsp\; and&nbsp\; register for&nbsp\; drawing&nbsp\; to win a Chamilia jewelry box .<br />\n&nbsp\;We are having the special promotions on silver snap bracelets and&nbsp\; beads&nbsp\; if you spend $125 . 
LOCATION:ELANI FINE JEWELRY
UID:e.363.4263
SEQUENCE:3
DTSTAMP:20260423T180920Z
URL:https://barrowcm.365dtm.com/events/details/earrings-event-05-02-2012-4263
END:VEVENT

END:VCALENDAR
