BEGIN:VCALENDAR
VERSION:2.0
PRODID:-//ChamberMaster//Event Calendar 2.0//EN
METHOD:PUBLISH
X-PUBLISHED-TTL:P3D
REFRESH-INTERVAL:P3D
CALSCALE:GREGORIAN
BEGIN:VEVENT
DTSTART;VALUE=DATE:20120420
DTEND;VALUE=DATE:20120421
TRANSP:TRANSPARENT
X-MICROSOFT-CDO-ALLDAYEVENT:TRUE
SUMMARY:Earth Day Clean Up
DESCRIPTION:Bring your old computers and office equipment\n\nscrape metal and other items to be disposed of properly
X-ALT-DESC;FMTTYPE=text/html:Bring&nbsp\;your old computers and office equipment<br />\nscrape metal and other items to be disposed of properly
LOCATION:
UID:e.363.4243
SEQUENCE:3
DTSTAMP:20260423T193349Z
URL:https://barrowcm.365dtm.com/events/details/earth-day-clean-up-04-20-2012-4243
END:VEVENT

END:VCALENDAR
