BEGIN:VCALENDAR
VERSION:2.0
PRODID:-//ChamberMaster//Event Calendar 2.0//EN
METHOD:PUBLISH
X-PUBLISHED-TTL:P3D
REFRESH-INTERVAL:P3D
CALSCALE:GREGORIAN
BEGIN:VEVENT
DTSTART;VALUE=DATE:20151208
DTEND;VALUE=DATE:20151209
TRANSP:TRANSPARENT
X-MICROSOFT-CDO-ALLDAYEVENT:TRUE
SUMMARY:Eggs and Issues
DESCRIPTION:Eggs and Issues
X-ALT-DESC;FMTTYPE=text/html:Eggs and Issues
LOCATION:The Georgia Club
UID:e.363.5831
SEQUENCE:3
DTSTAMP:20260420T203132Z
URL:https://barrowcm.365dtm.com/events/details/eggs-and-issues-12-08-2015-5831
END:VEVENT

END:VCALENDAR
