BEGIN:VCALENDAR
VERSION:2.0
PRODID:-//ChamberMaster//Event Calendar 2.0//EN
METHOD:PUBLISH
X-PUBLISHED-TTL:P3D
REFRESH-INTERVAL:P3D
CALSCALE:GREGORIAN
BEGIN:VEVENT
DTSTART:20121212T124500Z
DTEND:20121212T140000Z
X-MICROSOFT-CDO-ALLDAYEVENT:FALSE
SUMMARY:Eggs and Issues Breakfast
DESCRIPTION:Eggs and Issues Breakfast\n\nKeynote Speaker:  David Ralston Speaker of the House
X-ALT-DESC;FMTTYPE=text/html:Eggs and Issues Breakfast<br />\nKeynote Speaker:&nbsp\; David Ralston Speaker of the House
LOCATION:The Georgia Club 1050 Chancellors Dr Statham\, Ga
UID:e.363.4784
SEQUENCE:3
DTSTAMP:20260423T064518Z
URL:https://barrowcm.365dtm.com/events/details/eggs-and-issues-breakfast-12-12-2012-4784
END:VEVENT

END:VCALENDAR
