BEGIN:VCALENDAR
VERSION:2.0
PRODID:-//ChamberMaster//Event Calendar 2.0//EN
METHOD:PUBLISH
X-PUBLISHED-TTL:P3D
REFRESH-INTERVAL:P3D
CALSCALE:GREGORIAN
BEGIN:VEVENT
DTSTART:20101214T130000Z
DTEND:20101214T143000Z
X-MICROSOFT-CDO-ALLDAYEVENT:FALSE
SUMMARY:Eggs and Issues Breakfast
DESCRIPTION:Eggs and Issues Breakfast
X-ALT-DESC;FMTTYPE=text/html:Eggs and Issues Breakfast
LOCATION:The Georgia Club 1050 Chancellors Drive Statham\, GA
UID:e.363.3616
SEQUENCE:3
DTSTAMP:20260424T182207Z
URL:https://barrowcm.365dtm.com/events/details/eggs-and-issues-breakfast-12-14-2010-3616
END:VEVENT

END:VCALENDAR
