BEGIN:VCALENDAR
VERSION:2.0
PRODID:-//ChamberMaster//Event Calendar 2.0//EN
METHOD:PUBLISH
X-PUBLISHED-TTL:P3D
REFRESH-INTERVAL:P3D
CALSCALE:GREGORIAN
BEGIN:VEVENT
DTSTART:20131211T130000Z
DTEND:20131211T150000Z
X-MICROSOFT-CDO-ALLDAYEVENT:FALSE
SUMMARY:Eggs & Issues Breakfast
DESCRIPTION:Eggs & Issues
X-ALT-DESC;FMTTYPE=text/html:Eggs &amp\; Issues
LOCATION:The Georgia Club
UID:e.363.5033
SEQUENCE:3
DTSTAMP:20260424T081058Z
URL:https://barrowcm.365dtm.com/events/details/eggs-issues-breakfast-12-11-2013-5033
END:VEVENT

END:VCALENDAR
