BEGIN:VCALENDAR
VERSION:2.0
PRODID:-//ChamberMaster//Event Calendar 2.0//EN
METHOD:PUBLISH
X-PUBLISHED-TTL:P3D
REFRESH-INTERVAL:P3D
CALSCALE:GREGORIAN
BEGIN:VEVENT
DTSTART:20141209T130000Z
DTEND:20141209T143000Z
X-MICROSOFT-CDO-ALLDAYEVENT:FALSE
SUMMARY:Eggs N Issues
DESCRIPTION:Egg N Issues\n\nBrian Kemp Keynote Speaker
X-ALT-DESC;FMTTYPE=text/html:Egg N Issues<br />\nBrian Kemp Keynote Speaker
LOCATION:The Georgia Club
UID:e.363.5472
SEQUENCE:3
DTSTAMP:20260421T151107Z
URL:https://barrowcm.365dtm.com/events/details/eggs-n-issues-12-09-2014-5472
END:VEVENT

END:VCALENDAR
