BEGIN:VCALENDAR
VERSION:2.0
PRODID:-//ChamberMaster//Event Calendar 2.0//EN
METHOD:PUBLISH
X-PUBLISHED-TTL:P3D
REFRESH-INTERVAL:P3D
CALSCALE:GREGORIAN
BEGIN:VEVENT
DTSTART;VALUE=DATE:20120727
DTEND;VALUE=DATE:20120819
TRANSP:TRANSPARENT
X-MICROSOFT-CDO-ALLDAYEVENT:TRUE
SUMMARY:Elani Fine Jewelry/ Celebrating 1st Year Anniversary!
DESCRIPTION:Elani Fine Jewelry is celebrating  1st year anniversary with  FREE jewelry cleaner with purchase.\n\n	20% OFF jewelry\n\n	30% OFF all Watch brands\n\n	FREE Chamilia Beads with purchase  of $100 in chamilia products.
X-ALT-DESC;FMTTYPE=text/html:<p>\n	Elani Fine Jewelry is celebrating&nbsp\; 1st year anniversary with&nbsp\; FREE jewelry cleaner with purchase.<br />\n	20% OFF jewelry<br />\n	30% OFF all Watch brands<br />\n	FREE Chamilia Beads with purchase&nbsp\; of $100 in chamilia products.&nbsp\;</p>\n
LOCATION:Elani Fine Jewelry
UID:e.363.4535
SEQUENCE:3
DTSTAMP:20260423T132728Z
URL:https://barrowcm.365dtm.com/events/details/elani-fine-jewelry-celebrating-1st-year-anniversary-07-27-2012-4535
END:VEVENT

END:VCALENDAR
