BEGIN:VCALENDAR
VERSION:2.0
PRODID:-//ChamberMaster//Event Calendar 2.0//EN
METHOD:PUBLISH
X-PUBLISHED-TTL:P3D
REFRESH-INTERVAL:P3D
CALSCALE:GREGORIAN
BEGIN:VEVENT
DTSTART;VALUE=DATE:20110517
DTEND;VALUE=DATE:20110518
TRANSP:TRANSPARENT
X-MICROSOFT-CDO-ALLDAYEVENT:TRUE
SUMMARY:Entrepreneur Focus Group
DESCRIPTION:Entrepreneur Focus Group\n\nAl is President of Simon Inc.\, a sales training\, coaching\, and sales consulting company with training facilities in Norcross and Marietta\, and is an authorized licensee of Sandler Training. Mr. Simon specializes in teaching business owners and sales professionals to be effective and consistent with their selling strategies\, tactics\, and attitudes. A regular columnist for the Gwinnett Business Journal\, and Chambering\,  he also authors the"Simon Says" weekly sales tip.\n\nHis topic will be Sales Techniques to grow your business.
X-ALT-DESC;FMTTYPE=text/html:<span style="font-size: 14px">Entrepreneur Focus Group<br />\nAl is President of Simon Inc.\, a sales training\, coaching\, and sales consulting company with training facilities in Norcross and Marietta\, and is an authorized licensee of Sandler Training. Mr. Simon specializes in teaching business owners and sales professionals to be effective and consistent with their selling strategies\, tactics\, and attitudes. A regular columnist for the Gwinnett Business Journal\, and Chambering\, &nbsp\;he also authors the&ldquo\;Simon Says&rdquo\; weekly sales tip.<br />\nHis topic will be Sales Techniques to grow your business.&nbsp\;&nbsp\;</span><br />\n
LOCATION:Chamber Office #6 Porter Street
UID:e.363.4024
SEQUENCE:3
DTSTAMP:20260424T104929Z
URL:https://barrowcm.365dtm.com/events/details/entrepreneur-focus-group-05-17-2011-4024
END:VEVENT

END:VCALENDAR
