BEGIN:VCALENDAR
VERSION:2.0
PRODID:-//ChamberMaster//Event Calendar 2.0//EN
METHOD:PUBLISH
X-PUBLISHED-TTL:P3D
REFRESH-INTERVAL:P3D
CALSCALE:GREGORIAN
BEGIN:VEVENT
DTSTART:20110621T120000Z
DTEND:20110621T133000Z
X-MICROSOFT-CDO-ALLDAYEVENT:FALSE
SUMMARY:Entrepreneur Focus Group
DESCRIPTION:Speaker: Lorraine Edwards
X-ALT-DESC;FMTTYPE=text/html:Speaker: Lorraine Edwards<br />\n
LOCATION:Chamber Office
UID:e.363.4034
SEQUENCE:3
DTSTAMP:20260424T092603Z
URL:https://barrowcm.365dtm.com/events/details/entrepreneur-focus-group-06-21-2011-4034
END:VEVENT

END:VCALENDAR
