BEGIN:VCALENDAR
VERSION:2.0
PRODID:-//ChamberMaster//Event Calendar 2.0//EN
METHOD:PUBLISH
X-PUBLISHED-TTL:P3D
REFRESH-INTERVAL:P3D
CALSCALE:GREGORIAN
BEGIN:VEVENT
DTSTART:20110816T120000Z
DTEND:20110816T133000Z
X-MICROSOFT-CDO-ALLDAYEVENT:FALSE
SUMMARY:Entrepreneur Focus Group
DESCRIPTION:Speaker:  Laura Katz with SBDC\n\nOrganizing for Small Business
X-ALT-DESC;FMTTYPE=text/html:Speaker:&nbsp\; Laura Katz with SBDC<br />\nOrganizing for Small Business
LOCATION:The Chamber Office
UID:e.363.4060
SEQUENCE:3
DTSTAMP:20260424T064532Z
URL:https://barrowcm.365dtm.com/events/details/entrepreneur-focus-group-08-16-2011-4060
END:VEVENT

END:VCALENDAR
