BEGIN:VCALENDAR
VERSION:2.0
PRODID:-//ChamberMaster//Event Calendar 2.0//EN
METHOD:PUBLISH
X-PUBLISHED-TTL:P3D
REFRESH-INTERVAL:P3D
CALSCALE:GREGORIAN
BEGIN:VEVENT
DTSTART:20110419T120000Z
DTEND:20110419T133000Z
X-MICROSOFT-CDO-ALLDAYEVENT:FALSE
SUMMARY:Entrepreneurs Focus Group
DESCRIPTION:Entrepreneur Focus Group:  Re-Launched\n\nApril 19th. 8:00   9:30 am\n\nChamber Office\n\nWinder Native Todd Saxton who has facilitated leadership momentums for such clients as American Airlines\, Kimberly Clark\, Goodwill Industries\, Southwestern Wire\, Schwans\, IBM\, Avis Budget Group\, and more\, will be facilitating an entrepreneurial leadership forum at the April 19 meeting of the Entrepreneur's focus group. The meeting will be held at the Barrow Chamber for a cost of $5. Register at mmilner@barrowchamber.com\n\nHis topic will be on "Draw a plan: Seize your potential".  We all have a plan of action right?   Or is yours outdated based on yesteryears economy?  Time to revisit our plan of attack for 2011 with the guidance of Todd Saxton.\n\nYou don't want to miss this opportunity to learn from a skilled leader in the area of management\, public relations\, marketing\, sales\, training and development and counseling.\n\nI hope to see you all there!
X-ALT-DESC;FMTTYPE=text/html:<span style="font-size: 11px">Entrepreneur Focus Group:&nbsp\; Re-Launched<br />\nApril 19<sup>th</sup>. 8:00 &ndash\; 9:30 am<br />\nChamber Office<br />\nWinder Native <strong>Todd Saxton</strong> who has facilitated leadership momentums for such clients as American Airlines\, Kimberly Clark\, Goodwill Industries\, Southwestern Wire\, Schwans\, IBM\, Avis Budget Group\, and more\, will be facilitating an entrepreneurial leadership forum at the April 19 meeting of the Entrepreneur&rsquo\;s focus group. The meeting will be held at the Barrow Chamber for a cost of $5. Register at <a href="mailto:mmilner@barrowchamber.com">mmilner@barrowchamber.com</a><br />\nHis topic will be on &quot\;Draw a plan: Seize your potential&quot\;. &nbsp\;We all have a plan of action right?&nbsp\;&nbsp\; Or is yours outdated based on yesteryears economy? &nbsp\;Time to revisit our plan of attack for 2011 with the guidance of Todd Saxton.<br />\nYou don&rsquo\;t want to miss this opportunity to learn from a skilled leader in the area of management\, public relations\, marketing\, sales\, training and development and counseling.<br />\nI hope to see you all there!&nbsp\;</span><br />\n
LOCATION:Chamber Office #6 Porter Street\, WInder
UID:e.363.3697
SEQUENCE:3
DTSTAMP:20260424T121343Z
URL:https://barrowcm.365dtm.com/events/details/entrepreneurs-focus-group-04-19-2011-3697
END:VEVENT

END:VCALENDAR
