BEGIN:VCALENDAR
VERSION:2.0
PRODID:-//ChamberMaster//Event Calendar 2.0//EN
METHOD:PUBLISH
X-PUBLISHED-TTL:P3D
REFRESH-INTERVAL:P3D
CALSCALE:GREGORIAN
BEGIN:VEVENT
DTSTART:20100921T120000Z
DTEND:20100921T133000Z
X-MICROSOFT-CDO-ALLDAYEVENT:FALSE
SUMMARY:Entrepreneurs Focus Group
DESCRIPTION:Barrow County Chamber is proud to announce the launch of\n\n	The Entrepreneurs Focus Group
X-ALT-DESC;FMTTYPE=text/html:<p>\n	Barrow County Chamber is proud to announce the launch of<br />\n	The Entrepreneurs Focus Group</p>
LOCATION:The Carl House 1176 Atlanta Hwy\, Auburn\, Ga
UID:e.363.3588
SEQUENCE:3
DTSTAMP:20260424T224013Z
URL:https://barrowcm.365dtm.com/events/details/entrepreneurs-focus-group-09-21-2010-3588
END:VEVENT

END:VCALENDAR
