BEGIN:VCALENDAR
VERSION:2.0
PRODID:-//ChamberMaster//Event Calendar 2.0//EN
METHOD:PUBLISH
X-PUBLISHED-TTL:P3D
REFRESH-INTERVAL:P3D
CALSCALE:GREGORIAN
BEGIN:VEVENT
DTSTART:20101019T120000Z
DTEND:20101020T013000Z
X-MICROSOFT-CDO-ALLDAYEVENT:FALSE
SUMMARY:Entrepreneurs Focus Group
DESCRIPTION:Entrepreneurs Focus Group
X-ALT-DESC;FMTTYPE=text/html:Entrepreneurs Focus Group<span _fck_bookmark="1" style="display: none">&nbsp\;</span>
LOCATION:The Carl House 1176 Atlanta Hwy\, Auburn\, GA
UID:e.363.3609
SEQUENCE:3
DTSTAMP:20260424T213051Z
URL:https://barrowcm.365dtm.com/events/details/entrepreneurs-focus-group-10-19-2010-3609
END:VEVENT

END:VCALENDAR
