BEGIN:VCALENDAR
VERSION:2.0
PRODID:-//ChamberMaster//Event Calendar 2.0//EN
METHOD:PUBLISH
X-PUBLISHED-TTL:P3D
REFRESH-INTERVAL:P3D
CALSCALE:GREGORIAN
BEGIN:VEVENT
DTSTART:20101116T130000Z
DTEND:20101116T143000Z
X-MICROSOFT-CDO-ALLDAYEVENT:FALSE
SUMMARY:Entrepreneurs Focus Group
DESCRIPTION:Entrepreneurs Focus Group
X-ALT-DESC;FMTTYPE=text/html:Entrepreneurs Focus Group<span _fck_bookmark="1" style="display: none">&nbsp\;</span>
LOCATION:The Carl House 1176 Atlanta Hwy\, Auburn\, Ga
UID:e.363.3610
SEQUENCE:3
DTSTAMP:20260424T195545Z
URL:https://barrowcm.365dtm.com/events/details/entrepreneurs-focus-group-11-16-2010-3610
END:VEVENT

END:VCALENDAR
