BEGIN:VCALENDAR
VERSION:2.0
PRODID:-//ChamberMaster//Event Calendar 2.0//EN
METHOD:PUBLISH
X-PUBLISHED-TTL:P3D
REFRESH-INTERVAL:P3D
CALSCALE:GREGORIAN
BEGIN:VEVENT
DTSTART:20130502T160000Z
DTEND:20130503T000000Z
X-MICROSOFT-CDO-ALLDAYEVENT:FALSE
SUMMARY:Evening at the Gallery OKAb Shoe Special Order Finale
DESCRIPTION:Choose YOUR size\, color and style of these stylish\, comfortable\, Georgia-made shoes!
X-ALT-DESC;FMTTYPE=text/html:<span style="color: rgb(255\, 0\, 0)\;"><strong><span style="font-size: 14px\;">Choose YOUR size\, color and style of these stylish\, comfortable\, Georgia-made shoes!&nbsp\; </span></strong></span><br />\n
LOCATION:The Principal's Palette Gallery & Gift Boutique
UID:e.363.4889
SEQUENCE:3
DTSTAMP:20260422T233621Z
URL:https://barrowcm.365dtm.com/events/details/evening-at-the-gallery-okab-shoe-special-order-finale-05-02-2013-4889
END:VEVENT

END:VCALENDAR
