BEGIN:VCALENDAR
VERSION:2.0
PRODID:-//ChamberMaster//Event Calendar 2.0//EN
METHOD:PUBLISH
X-PUBLISHED-TTL:P3D
REFRESH-INTERVAL:P3D
CALSCALE:GREGORIAN
BEGIN:VEVENT
DTSTART:20111026T223000Z
DTEND:20111027T003000Z
X-MICROSOFT-CDO-ALLDAYEVENT:FALSE
SUMMARY:Evening with the Candidates
DESCRIPTION:Evening with the Candidates
X-ALT-DESC;FMTTYPE=text/html:Evening with the Candidates
LOCATION:Winder Community Center 113 East Athens Street\, Winder
UID:e.363.4098
SEQUENCE:3
DTSTAMP:20260424T040109Z
URL:https://barrowcm.365dtm.com/events/details/evening-with-the-candidates-10-26-2011-4098
END:VEVENT

END:VCALENDAR
