BEGIN:VCALENDAR
VERSION:2.0
PRODID:-//ChamberMaster//Event Calendar 2.0//EN
METHOD:PUBLISH
X-PUBLISHED-TTL:P3D
REFRESH-INTERVAL:P3D
CALSCALE:GREGORIAN
BEGIN:VEVENT
DTSTART;VALUE=DATE:20161006
DTEND;VALUE=DATE:20161007
TRANSP:TRANSPARENT
X-MICROSOFT-CDO-ALLDAYEVENT:TRUE
SUMMARY:Evening with the Candidates
DESCRIPTION:Also on Thursday evening\, beginning at 6:30 p.m. we will present "An Evening With The Candidates".  Candidates for local offices in Barrow County\, both Democratic and Republican\, will be on hand to answer questions from the Chamber's Governmental Affairs Committee. It is the first and may be the only time that candidates from both parties appear together.
X-ALT-DESC;FMTTYPE=text/html:<ul>\n	<li><span style="font-family:arial\,sans-serif\;"><span style="font-size:10.0pt\;">Also on Thursday evening\, beginning at 6:30 p.m. we will present &quot\;An Evening With The Candidates&quot\;. &nbsp\;Candidates for local offices in Barrow County\, both Democratic and Republican\, will be on hand to answer questions from the Chamber&#39\;s Governmental Affairs Committee. It is the first and may be the only time that candidates from both parties appear together.&nbsp\;</span></span></li>\n</ul>\n
LOCATION:Winder Community Theatre
UID:e.363.6891
SEQUENCE:3
DTSTAMP:20260420T045135Z
URL:https://barrowcm.365dtm.com/events/details/evening-with-the-candidates-6891
END:VEVENT

END:VCALENDAR
