BEGIN:VCALENDAR
VERSION:2.0
PRODID:-//ChamberMaster//Event Calendar 2.0//EN
METHOD:PUBLISH
X-PUBLISHED-TTL:P3D
REFRESH-INTERVAL:P3D
CALSCALE:GREGORIAN
BEGIN:VEVENT
DTSTART:20150820T223000Z
DTEND:20150821T000000Z
X-MICROSOFT-CDO-ALLDAYEVENT:FALSE
SUMMARY:Evening with the Canidates
DESCRIPTION:Evening with the Candidates County Commissioner District 3
X-ALT-DESC;FMTTYPE=text/html:Evening with the Candidates County Commissioner District 3
LOCATION:Colleen O. William Theatre
UID:e.363.5808
SEQUENCE:3
DTSTAMP:20260421T023802Z
URL:https://barrowcm.365dtm.com/events/details/evening-with-the-canidates-08-20-2015-5808
END:VEVENT

END:VCALENDAR
