BEGIN:VCALENDAR
VERSION:2.0
PRODID:-//ChamberMaster//Event Calendar 2.0//EN
METHOD:PUBLISH
X-PUBLISHED-TTL:P3D
REFRESH-INTERVAL:P3D
CALSCALE:GREGORIAN
BEGIN:VEVENT
DTSTART:20140726T120000Z
DTEND:20140726T140000Z
X-MICROSOFT-CDO-ALLDAYEVENT:FALSE
SUMMARY:Event at Adventure Bags\, Inc
DESCRIPTION:Take your family out for Breakfast and help Adventure Bags\, Inc. as well!  Enjoy mouth watering pancakes\, link sausage\, fruit bowl and drink. $7 per person (children under 6 eat FREE with 1 adult per child).  Get your tickets now - call 678-425-0316 to reserve your seats.\n\nTHANK YOU IN ADVANCE FROM ADVENTURE BAGS\, INC. FOR YOUR SUPPORT!
X-ALT-DESC;FMTTYPE=text/html:<span style="font-size:12px\;"><strong><span style="font-family:comic sans ms\;">Take your family out for Breakfast and help Adventure Bags\, Inc. as well! &nbsp\;Enjoy mouth watering pancakes\, link sausage\, fruit bowl and drink. $7 per person (children under 6 eat FREE with 1 adult per child). &nbsp\;Get your tickets now - call 678-425-0316 to reserve your seats.<br />\nTHANK YOU IN ADVANCE FROM ADVENTURE BAGS\, INC. FOR YOUR SUPPORT!</span></strong></span>
LOCATION:Fats - 442 Atlanta Hwy NW\, Winder
UID:e.363.5442
SEQUENCE:3
DTSTAMP:20260421T230122Z
URL:https://barrowcm.365dtm.com/events/details/event-at-adventure-bags-inc-07-26-2014-5442
END:VEVENT

END:VCALENDAR
