BEGIN:VCALENDAR
VERSION:2.0
PRODID:-//ChamberMaster//Event Calendar 2.0//EN
METHOD:PUBLISH
X-PUBLISHED-TTL:P3D
REFRESH-INTERVAL:P3D
CALSCALE:GREGORIAN
BEGIN:VEVENT
DTSTART:20140927T133000Z
DTEND:20140927T210000Z
X-MICROSOFT-CDO-ALLDAYEVENT:FALSE
SUMMARY:Event at Adventure Bags\, Inc
DESCRIPTION:Adventure Bags\, Inc 3rd Annual Motorcycle Ride\n\nAdventure Bags\, Inc\n\nCome on and join the fun and enjoy a beautiful ride to Lake Hartwell where there will be good food and a live band for your enjoyment while helping children in crisis!
X-ALT-DESC;FMTTYPE=text/html:<div class="mn-searchlisting-title" style="background: rgb(226\, 228\, 255)\; margin: 0px\; padding: 0px\; outline: 0px\; border: 0px currentColor\; border-image: none\; color: rgb(66\, 66\, 66)\; line-height: 20px\; font-family: Arial\, Helvetica\, sans-serif\; vertical-align: baseline\;"><a href="https://barrowcountychamber.chambermaster.com/mic/hotdeals/details/adventure-bags-inc-adventure-bags-inc-3rd-annual-motorcycle-ride-08-31-2014?type=2&amp\;memId=1508" style="background: none\; margin: 0px\; padding: 0px\; outline: 0px\; border: 0px currentColor\; border-image: none\; color: rgb(43\, 104\, 147)\; font-weight: bold\; text-decoration: none\; vertical-align: baseline\;">Adventure Bags\, Inc 3rd Annual Motorcycle Ride</a></div>\n\n<div class="mn-searchlisting-name" style="background: rgb(226\, 228\, 255)\; margin: 0px\; padding: 0px\; outline: 0px\; border: 0px currentColor\; border-image: none\; color: rgb(66\, 66\, 66)\; line-height: 20px\; font-family: Arial\, Helvetica\, sans-serif\; vertical-align: baseline\;"><a href="https://barrowcountychamber.chambermaster.com/mic/members/details/adventure-bags-inc-1508?memId=1508" style="background: none\; margin: 0px\; padding: 0px\; outline: 0px\; border: 0px currentColor\; border-image: none\; color: rgb(43\, 104\, 147)\; text-decoration: none\; vertical-align: baseline\;">Adventure Bags\, Inc</a></div>\n\n<div class="mn-searchlisting-description" style="background: rgb(226\, 228\, 255)\; margin: 0px\; padding: 0px\; outline: 0px\; border: 0px currentColor\; border-image: none\; color: rgb(66\, 66\, 66)\; line-height: 20px\; font-family: Arial\, Helvetica\, sans-serif\; vertical-align: baseline\;">Come on and join the fun and enjoy a beautiful ride to Lake Hartwell where there will be good food and a live band for your enjoyment while helping children in crisis!<br />\n<br />\n&nbsp\;</div>\n
LOCATION:Cycle World of Athens
UID:e.363.5460
SEQUENCE:3
DTSTAMP:20260421T202640Z
URL:https://barrowcm.365dtm.com/events/details/event-at-adventure-bags-inc-09-27-2014-5460
END:VEVENT

END:VCALENDAR
