BEGIN:VCALENDAR
VERSION:2.0
PRODID:-//ChamberMaster//Event Calendar 2.0//EN
METHOD:PUBLISH
X-PUBLISHED-TTL:P3D
REFRESH-INTERVAL:P3D
CALSCALE:GREGORIAN
BEGIN:VEVENT
DTSTART:20101114T010000Z
DTEND:20101114T040000Z
X-MICROSOFT-CDO-ALLDAYEVENT:FALSE
SUMMARY:Event at American Legion Post 53
DESCRIPTION:Dance- Live Music- Stephen Van Band-Country Rock
X-ALT-DESC;FMTTYPE=text/html:Dance- Live Music- Stephen Van Band-Country Rock
LOCATION:456 Watson Road\, Winder\, Ga.
UID:e.363.3624
SEQUENCE:3
DTSTAMP:20260424T201553Z
URL:https://barrowcm.365dtm.com/events/details/event-at-american-legion-post-53-11-13-2010-3624
END:VEVENT

END:VCALENDAR
