BEGIN:VCALENDAR
VERSION:2.0
PRODID:-//ChamberMaster//Event Calendar 2.0//EN
METHOD:PUBLISH
X-PUBLISHED-TTL:P3D
REFRESH-INTERVAL:P3D
CALSCALE:GREGORIAN
BEGIN:VEVENT
DTSTART:20101114T230000Z
DTEND:20101115T030000Z
X-MICROSOFT-CDO-ALLDAYEVENT:FALSE
SUMMARY:Event at American Legion Post 53
DESCRIPTION:Family Night "Potluck" Covered Dish Supper Food\,Fun\,Fellowship
X-ALT-DESC;FMTTYPE=text/html:Family Night "Potluck" Covered Dish Supper Food\,Fun\,Fellowship
LOCATION:456 Watson Road\,Winder\,Ga.
UID:e.363.3625
SEQUENCE:3
DTSTAMP:20260424T195942Z
URL:https://barrowcm.365dtm.com/events/details/event-at-american-legion-post-53-11-14-2010-3625
END:VEVENT

END:VCALENDAR
