BEGIN:VCALENDAR
VERSION:2.0
PRODID:-//ChamberMaster//Event Calendar 2.0//EN
METHOD:PUBLISH
X-PUBLISHED-TTL:P3D
REFRESH-INTERVAL:P3D
CALSCALE:GREGORIAN
BEGIN:VEVENT
DTSTART:20101119T230000Z
DTEND:20101120T030000Z
X-MICROSOFT-CDO-ALLDAYEVENT:FALSE
SUMMARY:Event at American Legion Post 53
DESCRIPTION:Family Night Covered Dish Potluck Supper-all are welcome
X-ALT-DESC;FMTTYPE=text/html:Family Night Covered Dish Potluck Supper-all are welcome
LOCATION:American Legion Post #53 at 456 Watson Rd. Winder\, Ga.
UID:e.363.3627
SEQUENCE:3
DTSTAMP:20260424T200750Z
URL:https://barrowcm.365dtm.com/events/details/event-at-american-legion-post-53-11-19-2010-3627
END:VEVENT

END:VCALENDAR
