BEGIN:VCALENDAR
VERSION:2.0
PRODID:-//ChamberMaster//Event Calendar 2.0//EN
METHOD:PUBLISH
X-PUBLISHED-TTL:P3D
REFRESH-INTERVAL:P3D
CALSCALE:GREGORIAN
BEGIN:VEVENT
DTSTART:20101126T230000Z
DTEND:20101127T030000Z
X-MICROSOFT-CDO-ALLDAYEVENT:FALSE
SUMMARY:Event at American Legion Post 53
DESCRIPTION:Family Night Covered Dish Potluck Supper
X-ALT-DESC;FMTTYPE=text/html:Family Night Covered Dish Potluck Supper
LOCATION:American Legion Post #53 at 456 Watson Rd. in Winder\, Ga.
UID:e.363.3630
SEQUENCE:3
DTSTAMP:20260424T195814Z
URL:https://barrowcm.365dtm.com/events/details/event-at-american-legion-post-53-11-26-2010-3630
END:VEVENT

END:VCALENDAR
