BEGIN:VCALENDAR
VERSION:2.0
PRODID:-//ChamberMaster//Event Calendar 2.0//EN
METHOD:PUBLISH
X-PUBLISHED-TTL:P3D
REFRESH-INTERVAL:P3D
CALSCALE:GREGORIAN
BEGIN:VEVENT
DTSTART:20101128T000000Z
DTEND:20101128T040000Z
X-MICROSOFT-CDO-ALLDAYEVENT:FALSE
SUMMARY:Event at American Legion Post 53
DESCRIPTION:Dance with live music by The Stephen Van Band    (Legion Cafe open for good food)
X-ALT-DESC;FMTTYPE=text/html:Dance with live music by The Stephen Van Band    (Legion Cafe open for good food)
LOCATION:American Legion Post #53 at 456 Watson Rd. in Winder\, Ga.
UID:e.363.3631
SEQUENCE:3
DTSTAMP:20260424T195807Z
URL:https://barrowcm.365dtm.com/events/details/event-at-american-legion-post-53-11-27-2010-3631
END:VEVENT

END:VCALENDAR
