BEGIN:VCALENDAR
VERSION:2.0
PRODID:-//ChamberMaster//Event Calendar 2.0//EN
METHOD:PUBLISH
X-PUBLISHED-TTL:P3D
REFRESH-INTERVAL:P3D
CALSCALE:GREGORIAN
BEGIN:VEVENT
DTSTART:20111112T220000Z
DTEND:20111113T000000Z
X-MICROSOFT-CDO-ALLDAYEVENT:FALSE
SUMMARY:Event at Barrow County Habitat for Humanity
DESCRIPTION:Spaghetti Dinner from 5 to 7 pm followed by an Auction to raise funds for our current build located at 921 Lochwolde Lane in Bethlehem. Items are still needed for the Auction.
X-ALT-DESC;FMTTYPE=text/html:Spaghetti Dinner from 5 to 7 pm followed by an Auction to raise funds for our current build located at 921 Lochwolde Lane in Bethlehem. Items are still needed for the Auction.
LOCATION:Winder's Lion Club 354 E. Broad Street\, Winer GA 30680
UID:e.363.4101
SEQUENCE:3
DTSTAMP:20260424T025033Z
URL:https://barrowcm.365dtm.com/events/details/event-at-barrow-county-habitat-for-humanity-11-12-2011-4101
END:VEVENT

END:VCALENDAR
