BEGIN:VCALENDAR
VERSION:2.0
PRODID:-//ChamberMaster//Event Calendar 2.0//EN
METHOD:PUBLISH
X-PUBLISHED-TTL:P3D
REFRESH-INTERVAL:P3D
CALSCALE:GREGORIAN
BEGIN:VEVENT
DTSTART:20120226T180000Z
DTEND:20120226T200000Z
X-MICROSOFT-CDO-ALLDAYEVENT:FALSE
SUMMARY:Event at Carl House
DESCRIPTION:Sunday February 26th\, 1pm-3pm\n\nAll Carl House booked brides and one guest attend at no cost. Not YET booked brides also attend for free. All others pay just $15 to taste our Chef's culinary delights\, meet the Carl House team\, win potential prizes and most of all\, meet our fabulous vendor partners! We hope to see you on Sunday!!
X-ALT-DESC;FMTTYPE=text/html:Sunday February 26th\, 1pm-3pm<br />\nAll Carl House booked brides and one guest attend at no cost. Not YET booked brides also attend for free. All others pay just $15 to taste our Chef&rsquo\;s culinary delights\, meet the Carl House team\, win potential prizes and most of all\, meet our fabulous vendor partners! We hope to see you on Sunday!!<br />\n<br />\n
LOCATION:1396 Atlanta Hwy Auburn\, Ga 30011
UID:e.363.4224
SEQUENCE:3
DTSTAMP:20260423T222333Z
URL:https://barrowcm.365dtm.com/events/details/event-at-carl-house-02-26-2012-4224
END:VEVENT

END:VCALENDAR
