BEGIN:VCALENDAR
VERSION:2.0
PRODID:-//ChamberMaster//Event Calendar 2.0//EN
METHOD:PUBLISH
X-PUBLISHED-TTL:P3D
REFRESH-INTERVAL:P3D
CALSCALE:GREGORIAN
BEGIN:VEVENT
DTSTART;VALUE=DATE:20091017
DTEND;VALUE=DATE:20091018
TRANSP:TRANSPARENT
X-MICROSOFT-CDO-ALLDAYEVENT:TRUE
SUMMARY:Event at City of Auburn
DESCRIPTION:Auburnfest \nFun for everyone.
X-ALT-DESC;FMTTYPE=text/html:Auburnfest \nFun for everyone.  
LOCATION:Downtown Auburn 1369 Fourth Avenue
UID:e.363.3029
SEQUENCE:3
DTSTAMP:20260425T154514Z
URL:https://barrowcm.365dtm.com/events/details/event-at-city-of-auburn-10-17-2009-3029
END:VEVENT

END:VCALENDAR
