BEGIN:VCALENDAR
VERSION:2.0
PRODID:-//ChamberMaster//Event Calendar 2.0//EN
METHOD:PUBLISH
X-PUBLISHED-TTL:P3D
REFRESH-INTERVAL:P3D
CALSCALE:GREGORIAN
BEGIN:VEVENT
DTSTART;VALUE=DATE:20111013
DTEND;VALUE=DATE:20111016
TRANSP:TRANSPARENT
X-MICROSOFT-CDO-ALLDAYEVENT:TRUE
SUMMARY:Event at Elani Fine Jewelry
DESCRIPTION:Breast Cancer Awareness Event\n\nFree Gift  with Purchase\n\nPurchase a silver snap Chamilia Bracelet and receive a pink ribbon charm.\n\nAppetaizers  and drinks are served.
X-ALT-DESC;FMTTYPE=text/html:Breast Cancer Awareness Event<br />\nFree Gift&nbsp\; with Purchase<br />\nPurchase a silver snap Chamilia Bracelet and receive a pink ribbon charm.<br />\nAppetaizers&nbsp\; and drinks are served.
LOCATION:ELANI FINE JEWELRY
UID:e.363.4095
SEQUENCE:3
DTSTAMP:20260424T040414Z
URL:https://barrowcm.365dtm.com/events/details/event-at-elani-fine-jewelry-10-13-2011-4095
END:VEVENT

END:VCALENDAR
