BEGIN:VCALENDAR
VERSION:2.0
PRODID:-//ChamberMaster//Event Calendar 2.0//EN
METHOD:PUBLISH
X-PUBLISHED-TTL:P3D
REFRESH-INTERVAL:P3D
CALSCALE:GREGORIAN
BEGIN:VEVENT
DTSTART:20090224T233000Z
DTEND:20090225T040000Z
X-MICROSOFT-CDO-ALLDAYEVENT:FALSE
SUMMARY:Event at Family Counseling Service - Mardi Gras Athens
DESCRIPTION:Annual Fundraiser - \nA  $2\,500* ?Reverse Raffle?  -  The Presentation of  Door Prizes  -  Special Home-Style New Orleans Hor d?oeuvres - See: http://www.fcsathens.com/mardigrasathens.html
X-ALT-DESC;FMTTYPE=text/html:Annual Fundraiser - \nA  $2\,500* ?Reverse Raffle?  -  The Presentation of  Door Prizes  -  Special Home-Style New Orleans Hor d?oeuvres - See: http://www.fcsathens.com/mardigrasathens.html
LOCATION:The Melting Point - Athens\, GA
UID:e.363.2435
SEQUENCE:3
DTSTAMP:20260426T042004Z
URL:https://barrowcm.365dtm.com/events/details/event-at-family-counseling-service-mardi-gras-athens-02-24-2009-2435
END:VEVENT

END:VCALENDAR
