BEGIN:VCALENDAR
VERSION:2.0
PRODID:-//ChamberMaster//Event Calendar 2.0//EN
METHOD:PUBLISH
X-PUBLISHED-TTL:P3D
REFRESH-INTERVAL:P3D
CALSCALE:GREGORIAN
BEGIN:VEVENT
DTSTART:20090523T230000Z
DTEND:20090524T010000Z
X-MICROSOFT-CDO-ALLDAYEVENT:FALSE
SUMMARY:Event at Ft Yargo State Park
DESCRIPTION:Marshmallow Roast for our Visitors to be held in Campground One from 7:00pm till 9:00pm.\nThis event will be held at the old outdoor Ampitheater.   Marshmallows will be provide by the Friends of Fort Yargo.   If you have any questions  please contact the park at 770-867-3489.
X-ALT-DESC;FMTTYPE=text/html:Marshmallow Roast for our Visitors to be held in Campground One from 7:00pm till 9:00pm.\nThis event will be held at the old outdoor Ampitheater.   Marshmallows will be provide by the Friends of Fort Yargo.   If you have any questions  please contact the park at 770-867-3489. 
LOCATION:Fort Yargo State Park
UID:e.363.2713
SEQUENCE:3
DTSTAMP:20260425T233930Z
URL:https://barrowcm.365dtm.com/events/details/event-at-ft-yargo-state-park-05-23-2009-2713
END:VEVENT

END:VCALENDAR
