BEGIN:VCALENDAR
VERSION:2.0
PRODID:-//ChamberMaster//Event Calendar 2.0//EN
METHOD:PUBLISH
X-PUBLISHED-TTL:P3D
REFRESH-INTERVAL:P3D
CALSCALE:GREGORIAN
BEGIN:VEVENT
DTSTART;VALUE=DATE:20090509
DTEND;VALUE=DATE:20090510
TRANSP:TRANSPARENT
X-MICROSOFT-CDO-ALLDAYEVENT:TRUE
SUMMARY:Event at Georgia Piedmont Arts Center\, Inc.
DESCRIPTION:Celebration of Art outdoor Festival. Artist booths\, food vendors\, fun for the whole family. For additional information or to apply for a booth\, visit www.georgiapiedmontartscenter.com.
X-ALT-DESC;FMTTYPE=text/html:Celebration of Art outdoor Festival. Artist booths\, food vendors\, fun for the whole family. For additional information or to apply for a booth\, visit www.georgiapiedmontartscenter.com.
LOCATION:88 Griffith Street
UID:e.363.2707
SEQUENCE:3
DTSTAMP:20260425T234501Z
URL:https://barrowcm.365dtm.com/events/details/event-at-georgia-piedmont-arts-center-inc-05-09-2009-2707
END:VEVENT

END:VCALENDAR
